BEGIN:VCALENDAR
VERSION:2.0
PRODID:-//https://www.barryroe.net///NONSGML kigkonsult.se iCalcreator 2.10.15//
METHOD:PUBLISH
BEGIN:VEVENT
UID:20260421T113101UTC-2911lPG8w1@https://www.barryroe.net/
DTSTAMP:20260421T113101Z
DESCRIPTION:\n\nCanto is a free community choir based in Barryroe National 
 School\, West Cork\nWould you like to have fun and sing in a choir?\nAre y
 ou a living in or near the Butlerstown / Barryroe area?\nIt is free to tak
 e part\, there is no audition and no previous choir experience is necessar
 y.\nYou are welcome whether you are an experienced musician or a complete 
 beginner whatever your age*.\nAll ages and abilities are welcome\n* Under 
 18s must be accompanied by a designated parent or guardian at all times\n
 \n\nWhat can you expect?\n\nBroaden your horizons with wide variety of mus
 ic including:\n\nRock | Classical | Sacred | Gospel | Pop | Traditional | 
 Jazz | Rounds | World Music | Musicals | Madrigals | Contemporary | Experi
 mental\n\nLearn how to sing in harmony\nMaster how to read music\nFun\, La
 ughter and Community\n\nWho is running this?\nCanto Community Choir is fou
 nded by Denis O'Regan\nHow Do I Join?\nJust register and you should receiv
 e all you need in an email (as it is automated you might check your junk m
 ail folder and add the email to your trusted 'whitelist')\nRegister Here\n
 \n\n  https://www.barryroe.net/events/event/1-canto-community-choir
DTSTART:20260421T183000Z
DTEND:20260421T200000Z
LOCATION:Barryroe National School (Tirnanean\, Co. Cork\, P72 YE28\, Irelan
 d)
SUMMARY:Canto Community Choir
URL:https://www.barryroe.net/events/event/1-canto-community-choir
END:VEVENT
BEGIN:VEVENT
UID:20260421T113101UTC-2913evUU7o@https://www.barryroe.net/
DTSTAMP:20260421T113101Z
DESCRIPTION:\n\nCanto is a free community choir based in Barryroe National 
 School\, West Cork\nWould you like to have fun and sing in a choir?\nAre y
 ou a living in or near the Butlerstown / Barryroe area?\nIt is free to tak
 e part\, there is no audition and no previous choir experience is necessar
 y.\nYou are welcome whether you are an experienced musician or a complete 
 beginner whatever your age*.\nAll ages and abilities are welcome\n* Under 
 18s must be accompanied by a designated parent or guardian at all times\n
 \n\nWhat can you expect?\n\nBroaden your horizons with wide variety of mus
 ic including:\n\nRock | Classical | Sacred | Gospel | Pop | Traditional | 
 Jazz | Rounds | World Music | Musicals | Madrigals | Contemporary | Experi
 mental\n\nLearn how to sing in harmony\nMaster how to read music\nFun\, La
 ughter and Community\n\nWho is running this?\nCanto Community Choir is fou
 nded by Denis O'Regan\nHow Do I Join?\nJust register and you should receiv
 e all you need in an email (as it is automated you might check your junk m
 ail folder and add the email to your trusted 'whitelist')\nRegister Here\n
 \n\n  https://www.barryroe.net/events/event/2-canto-community-choir
DTSTART:20260428T183000Z
DTEND:20260428T200000Z
LOCATION:Barryroe National School (Tirnanean\, Co. Cork\, P72 YE28\, Irelan
 d)
SUMMARY:Canto Community Choir
URL:https://www.barryroe.net/events/event/2-canto-community-choir
END:VEVENT
BEGIN:VEVENT
UID:20260421T113101UTC-2915UAbroN@https://www.barryroe.net/
DTSTAMP:20260421T113101Z
DESCRIPTION:\n\nCanto is a free community choir based in Barryroe National 
 School\, West Cork\nWould you like to have fun and sing in a choir?\nAre y
 ou a living in or near the Butlerstown / Barryroe area?\nIt is free to tak
 e part\, there is no audition and no previous choir experience is necessar
 y.\nYou are welcome whether you are an experienced musician or a complete 
 beginner whatever your age*.\nAll ages and abilities are welcome\n* Under 
 18s must be accompanied by a designated parent or guardian at all times\n
 \n\nWhat can you expect?\n\nBroaden your horizons with wide variety of mus
 ic including:\n\nRock | Classical | Sacred | Gospel | Pop | Traditional | 
 Jazz | Rounds | World Music | Musicals | Madrigals | Contemporary | Experi
 mental\n\nLearn how to sing in harmony\nMaster how to read music\nFun\, La
 ughter and Community\n\nWho is running this?\nCanto Community Choir is fou
 nded by Denis O'Regan\nHow Do I Join?\nJust register and you should receiv
 e all you need in an email (as it is automated you might check your junk m
 ail folder and add the email to your trusted 'whitelist')\nRegister Here\n
 \n\n  https://www.barryroe.net/events/event/4-canto-community-choir
DTSTART:20260505T183000Z
DTEND:20260505T200000Z
LOCATION:Barryroe National School (Tirnanean\, Co. Cork\, P72 YE28\, Irelan
 d)
SUMMARY:Canto Community Choir
URL:https://www.barryroe.net/events/event/4-canto-community-choir
END:VEVENT
BEGIN:VEVENT
UID:20260421T113101UTC-2916BOucSS@https://www.barryroe.net/
DTSTAMP:20260421T113101Z
DESCRIPTION:\n\nCanto is a free community choir based in Barryroe National 
 School\, West Cork\nWould you like to have fun and sing in a choir?\nAre y
 ou a living in or near the Butlerstown / Barryroe area?\nIt is free to tak
 e part\, there is no audition and no previous choir experience is necessar
 y.\nYou are welcome whether you are an experienced musician or a complete 
 beginner whatever your age*.\nAll ages and abilities are welcome\n* Under 
 18s must be accompanied by a designated parent or guardian at all times\n
 \n\nWhat can you expect?\n\nBroaden your horizons with wide variety of mus
 ic including:\n\nRock | Classical | Sacred | Gospel | Pop | Traditional | 
 Jazz | Rounds | World Music | Musicals | Madrigals | Contemporary | Experi
 mental\n\nLearn how to sing in harmony\nMaster how to read music\nFun\, La
 ughter and Community\n\nWho is running this?\nCanto Community Choir is fou
 nded by Denis O'Regan\nHow Do I Join?\nJust register and you should receiv
 e all you need in an email (as it is automated you might check your junk m
 ail folder and add the email to your trusted 'whitelist')\nRegister Here\n
 \n\n  https://www.barryroe.net/events/event/6-canto-community-choir
DTSTART:20260512T183000Z
DTEND:20260512T200000Z
LOCATION:Barryroe National School (Tirnanean\, Co. Cork\, P72 YE28\, Irelan
 d)
SUMMARY:Canto Community Choir
URL:https://www.barryroe.net/events/event/6-canto-community-choir
END:VEVENT
BEGIN:VEVENT
UID:20260421T113101UTC-29188jIuGr@https://www.barryroe.net/
DTSTAMP:20260421T113101Z
DESCRIPTION:\n\nCanto is a free community choir based in Barryroe National 
 School\, West Cork\nWould you like to have fun and sing in a choir?\nAre y
 ou a living in or near the Butlerstown / Barryroe area?\nIt is free to tak
 e part\, there is no audition and no previous choir experience is necessar
 y.\nYou are welcome whether you are an experienced musician or a complete 
 beginner whatever your age*.\nAll ages and abilities are welcome\n* Under 
 18s must be accompanied by a designated parent or guardian at all times\n
 \n\nWhat can you expect?\n\nBroaden your horizons with wide variety of mus
 ic including:\n\nRock | Classical | Sacred | Gospel | Pop | Traditional | 
 Jazz | Rounds | World Music | Musicals | Madrigals | Contemporary | Experi
 mental\n\nLearn how to sing in harmony\nMaster how to read music\nFun\, La
 ughter and Community\n\nWho is running this?\nCanto Community Choir is fou
 nded by Denis O'Regan\nHow Do I Join?\nJust register and you should receiv
 e all you need in an email (as it is automated you might check your junk m
 ail folder and add the email to your trusted 'whitelist')\nRegister Here\n
 \n\n  https://www.barryroe.net/events/event/8-canto-community-choir
DTSTART:20260519T183000Z
DTEND:20260519T200000Z
LOCATION:Barryroe National School (Tirnanean\, Co. Cork\, P72 YE28\, Irelan
 d)
SUMMARY:Canto Community Choir
URL:https://www.barryroe.net/events/event/8-canto-community-choir
END:VEVENT
BEGIN:VEVENT
UID:20260421T113101UTC-2919A6CAiv@https://www.barryroe.net/
DTSTAMP:20260421T113101Z
DESCRIPTION:\n\nCanto is a free community choir based in Barryroe National 
 School\, West Cork\nWould you like to have fun and sing in a choir?\nAre y
 ou a living in or near the Butlerstown / Barryroe area?\nIt is free to tak
 e part\, there is no audition and no previous choir experience is necessar
 y.\nYou are welcome whether you are an experienced musician or a complete 
 beginner whatever your age*.\nAll ages and abilities are welcome\n* Under 
 18s must be accompanied by a designated parent or guardian at all times\n
 \n\nWhat can you expect?\n\nBroaden your horizons with wide variety of mus
 ic including:\n\nRock | Classical | Sacred | Gospel | Pop | Traditional | 
 Jazz | Rounds | World Music | Musicals | Madrigals | Contemporary | Experi
 mental\n\nLearn how to sing in harmony\nMaster how to read music\nFun\, La
 ughter and Community\n\nWho is running this?\nCanto Community Choir is fou
 nded by Denis O'Regan\nHow Do I Join?\nJust register and you should receiv
 e all you need in an email (as it is automated you might check your junk m
 ail folder and add the email to your trusted 'whitelist')\nRegister Here\n
 \n\n  https://www.barryroe.net/events/event/10-canto-community-choir
DTSTART:20260526T183000Z
DTEND:20260526T200000Z
LOCATION:Barryroe National School (Tirnanean\, Co. Cork\, P72 YE28\, Irelan
 d)
SUMMARY:Canto Community Choir
URL:https://www.barryroe.net/events/event/10-canto-community-choir
END:VEVENT
BEGIN:VEVENT
UID:20260421T113101UTC-2920vz0NTR@https://www.barryroe.net/
DTSTAMP:20260421T113101Z
DESCRIPTION:\n\nCanto is a free community choir based in Barryroe National 
 School\, West Cork\nWould you like to have fun and sing in a choir?\nAre y
 ou a living in or near the Butlerstown / Barryroe area?\nIt is free to tak
 e part\, there is no audition and no previous choir experience is necessar
 y.\nYou are welcome whether you are an experienced musician or a complete 
 beginner whatever your age*.\nAll ages and abilities are welcome\n* Under 
 18s must be accompanied by a designated parent or guardian at all times\n
 \n\nWhat can you expect?\n\nBroaden your horizons with wide variety of mus
 ic including:\n\nRock | Classical | Sacred | Gospel | Pop | Traditional | 
 Jazz | Rounds | World Music | Musicals | Madrigals | Contemporary | Experi
 mental\n\nLearn how to sing in harmony\nMaster how to read music\nFun\, La
 ughter and Community\n\nWho is running this?\nCanto Community Choir is fou
 nded by Denis O'Regan\nHow Do I Join?\nJust register and you should receiv
 e all you need in an email (as it is automated you might check your junk m
 ail folder and add the email to your trusted 'whitelist')\nRegister Here\n
 \n\n  https://www.barryroe.net/events/event/12-canto-community-choir
DTSTART:20260602T183000Z
DTEND:20260602T200000Z
LOCATION:Barryroe National School (Tirnanean\, Co. Cork\, P72 YE28\, Irelan
 d)
SUMMARY:Canto Community Choir
URL:https://www.barryroe.net/events/event/12-canto-community-choir
END:VEVENT
BEGIN:VEVENT
UID:20260421T113101UTC-2922vlEaMh@https://www.barryroe.net/
DTSTAMP:20260421T113101Z
DESCRIPTION:\n\nCanto is a free community choir based in Barryroe National 
 School\, West Cork\nWould you like to have fun and sing in a choir?\nAre y
 ou a living in or near the Butlerstown / Barryroe area?\nIt is free to tak
 e part\, there is no audition and no previous choir experience is necessar
 y.\nYou are welcome whether you are an experienced musician or a complete 
 beginner whatever your age*.\nAll ages and abilities are welcome\n* Under 
 18s must be accompanied by a designated parent or guardian at all times\n
 \n\nWhat can you expect?\n\nBroaden your horizons with wide variety of mus
 ic including:\n\nRock | Classical | Sacred | Gospel | Pop | Traditional | 
 Jazz | Rounds | World Music | Musicals | Madrigals | Contemporary | Experi
 mental\n\nLearn how to sing in harmony\nMaster how to read music\nFun\, La
 ughter and Community\n\nWho is running this?\nCanto Community Choir is fou
 nded by Denis O'Regan\nHow Do I Join?\nJust register and you should receiv
 e all you need in an email (as it is automated you might check your junk m
 ail folder and add the email to your trusted 'whitelist')\nRegister Here\n
 \n\n  https://www.barryroe.net/events/event/14-canto-community-choir
DTSTART:20260609T183000Z
DTEND:20260609T200000Z
LOCATION:Barryroe National School (Tirnanean\, Co. Cork\, P72 YE28\, Irelan
 d)
SUMMARY:Canto Community Choir
URL:https://www.barryroe.net/events/event/14-canto-community-choir
END:VEVENT
BEGIN:VEVENT
UID:20260421T113101UTC-2923aP2bIE@https://www.barryroe.net/
DTSTAMP:20260421T113101Z
DESCRIPTION:\n\nCanto is a free community choir based in Barryroe National 
 School\, West Cork\nWould you like to have fun and sing in a choir?\nAre y
 ou a living in or near the Butlerstown / Barryroe area?\nIt is free to tak
 e part\, there is no audition and no previous choir experience is necessar
 y.\nYou are welcome whether you are an experienced musician or a complete 
 beginner whatever your age*.\nAll ages and abilities are welcome\n* Under 
 18s must be accompanied by a designated parent or guardian at all times\n
 \n\nWhat can you expect?\n\nBroaden your horizons with wide variety of mus
 ic including:\n\nRock | Classical | Sacred | Gospel | Pop | Traditional | 
 Jazz | Rounds | World Music | Musicals | Madrigals | Contemporary | Experi
 mental\n\nLearn how to sing in harmony\nMaster how to read music\nFun\, La
 ughter and Community\n\nWho is running this?\nCanto Community Choir is fou
 nded by Denis O'Regan\nHow Do I Join?\nJust register and you should receiv
 e all you need in an email (as it is automated you might check your junk m
 ail folder and add the email to your trusted 'whitelist')\nRegister Here\n
 \n\n  https://www.barryroe.net/events/event/16-canto-community-choir
DTSTART:20260616T183000Z
DTEND:20260616T200000Z
LOCATION:Barryroe National School (Tirnanean\, Co. Cork\, P72 YE28\, Irelan
 d)
SUMMARY:Canto Community Choir
URL:https://www.barryroe.net/events/event/16-canto-community-choir
END:VEVENT
BEGIN:VEVENT
UID:20260421T113101UTC-2925M4AcoO@https://www.barryroe.net/
DTSTAMP:20260421T113101Z
DESCRIPTION:\n\nCanto is a free community choir based in Barryroe National 
 School\, West Cork\nWould you like to have fun and sing in a choir?\nAre y
 ou a living in or near the Butlerstown / Barryroe area?\nIt is free to tak
 e part\, there is no audition and no previous choir experience is necessar
 y.\nYou are welcome whether you are an experienced musician or a complete 
 beginner whatever your age*.\nAll ages and abilities are welcome\n* Under 
 18s must be accompanied by a designated parent or guardian at all times\n
 \n\nWhat can you expect?\n\nBroaden your horizons with wide variety of mus
 ic including:\n\nRock | Classical | Sacred | Gospel | Pop | Traditional | 
 Jazz | Rounds | World Music | Musicals | Madrigals | Contemporary | Experi
 mental\n\nLearn how to sing in harmony\nMaster how to read music\nFun\, La
 ughter and Community\n\nWho is running this?\nCanto Community Choir is fou
 nded by Denis O'Regan\nHow Do I Join?\nJust register and you should receiv
 e all you need in an email (as it is automated you might check your junk m
 ail folder and add the email to your trusted 'whitelist')\nRegister Here\n
 \n\n  https://www.barryroe.net/events/event/18-canto-community-choir
DTSTART:20260623T183000Z
DTEND:20260623T200000Z
LOCATION:Barryroe National School (Tirnanean\, Co. Cork\, P72 YE28\, Irelan
 d)
SUMMARY:Canto Community Choir
URL:https://www.barryroe.net/events/event/18-canto-community-choir
END:VEVENT
BEGIN:VEVENT
UID:20260421T113101UTC-2926AwWc0E@https://www.barryroe.net/
DTSTAMP:20260421T113101Z
DESCRIPTION:\n\nCanto is a free community choir based in Barryroe National 
 School\, West Cork\nWould you like to have fun and sing in a choir?\nAre y
 ou a living in or near the Butlerstown / Barryroe area?\nIt is free to tak
 e part\, there is no audition and no previous choir experience is necessar
 y.\nYou are welcome whether you are an experienced musician or a complete 
 beginner whatever your age*.\nAll ages and abilities are welcome\n* Under 
 18s must be accompanied by a designated parent or guardian at all times\n
 \n\nWhat can you expect?\n\nBroaden your horizons with wide variety of mus
 ic including:\n\nRock | Classical | Sacred | Gospel | Pop | Traditional | 
 Jazz | Rounds | World Music | Musicals | Madrigals | Contemporary | Experi
 mental\n\nLearn how to sing in harmony\nMaster how to read music\nFun\, La
 ughter and Community\n\nWho is running this?\nCanto Community Choir is fou
 nded by Denis O'Regan\nHow Do I Join?\nJust register and you should receiv
 e all you need in an email (as it is automated you might check your junk m
 ail folder and add the email to your trusted 'whitelist')\nRegister Here\n
 \n\n  https://www.barryroe.net/events/event/20-canto-community-choir
DTSTART:20260630T183000Z
DTEND:20260630T200000Z
LOCATION:Barryroe National School (Tirnanean\, Co. Cork\, P72 YE28\, Irelan
 d)
SUMMARY:Canto Community Choir
URL:https://www.barryroe.net/events/event/20-canto-community-choir
END:VEVENT
BEGIN:VEVENT
UID:20260421T113101UTC-2927bWKSdn@https://www.barryroe.net/
DTSTAMP:20260421T113101Z
DESCRIPTION:Annual General Meeting (AGM) of Butlerstown Community Centre - 
 all welcome https://www.barryroe.net/events/event/21-butlerstown-community
 -centre-agm
DTSTART:20260423T190000Z
DTEND:20260423T210000Z
LOCATION:Butlerstown Community Centre (Butlerstown\, Co. Cork\, Ireland)
SUMMARY:Butlerstown Community Centre AGM
URL:https://www.barryroe.net/events/event/21-butlerstown-community-centre-a
 gm
END:VEVENT
BEGIN:VEVENT
UID:20260421T113101UTC-2928d73ELV@https://www.barryroe.net/
DTSTAMP:20260421T113101Z
DESCRIPTION:New members are most welcome\nIf you are aged 55 years or over 
 and would like some social interaction with others in the area\, why not c
 ome along.  We usually meet once a fortnight.\nTransport can be arranged t
 o and from the meetings for anyone who may need it.\nFor further informati
 on please contact:\nKathleen Holland 086 386 4397\nMarian O'Brien 086 345 
 8764 https://www.barryroe.net/events/event/23-barryroe-friendship-club
DTSTART:20260427T133000Z
DTEND:20260427T150800Z
LOCATION:Butlerstown Community Centre (Butlerstown\, Co. Cork\, Ireland)
SUMMARY:Barryroe Friendship Club
URL:https://www.barryroe.net/events/event/23-barryroe-friendship-club
END:VEVENT
END:VCALENDAR
